BEGIN:VCALENDAR
VERSION:2.0
PRODID:-//Viktor Hygo - ECPv6.15.20//NONSGML v1.0//EN
CALSCALE:GREGORIAN
METHOD:PUBLISH
X-WR-CALNAME:Viktor Hygo
X-ORIGINAL-URL:https://ecole-vhugo.com
X-WR-CALDESC:Events for Viktor Hygo
REFRESH-INTERVAL;VALUE=DURATION:PT1H
X-Robots-Tag:noindex
X-PUBLISHED-TTL:PT1H
BEGIN:VTIMEZONE
TZID:UTC
BEGIN:STANDARD
TZOFFSETFROM:+0000
TZOFFSETTO:+0000
TZNAME:UTC
DTSTART:20170101T000000
END:STANDARD
END:VTIMEZONE
BEGIN:VEVENT
DTSTART;TZID=UTC:20180406T081030
DTEND;TZID=UTC:20171101T170000
DTSTAMP:20260421T102627
CREATED:20170203T114108Z
LAST-MODIFIED:20170203T114108Z
UID:193-1523002230-1509555600@ecole-vhugo.com
SUMMARY:Friends of the School
DESCRIPTION:The Ed School District is in compliance with the U.S. Civil Rights Act of 1964 and the Title IX Educational Amendments of 1972\, Part 86. The School District provides equal employment and educational opportunities to all individuals without regard to race\, color\, creed\, religion\, national origin\, political affiliation\, sex\, sexual orientation\, age\, marital status\, veteran status or disability.
URL:https://ecole-vhugo.com/event/friendsoftheschool/
CATEGORIES:School
ATTACH;FMTTYPE=image/jpeg:https://ecole-vhugo.com/wp-content/uploads/2017/02/event-03-1.jpg
END:VEVENT
BEGIN:VEVENT
DTSTART;TZID=UTC:20180406T081026
DTEND;TZID=UTC:20200401T170000
DTSTAMP:20260421T102627
CREATED:20170208T114226Z
LAST-MODIFIED:20170208T114226Z
UID:192-1523002226-1585760400@ecole-vhugo.com
SUMMARY:Open Day
DESCRIPTION:The Ed School District is in compliance with the U.S. Civil Rights Act of 1964 and the Title IX Educational Amendments of 1972\, Part 86. The School District provides equal employment and educational opportunities to all individuals without regard to race\, color\, creed\, religion\, national origin\, political affiliation\, sex\, sexual orientation\, age\, marital status\, veteran status or disability.
URL:https://ecole-vhugo.com/event/open-day/
CATEGORIES:School
ATTACH;FMTTYPE=image/jpeg:https://ecole-vhugo.com/wp-content/uploads/2017/02/event-04-1.jpg
END:VEVENT
BEGIN:VEVENT
DTSTART;VALUE=DATE:20180406
DTEND;VALUE=DATE:20180313
DTSTAMP:20260421T102627
CREATED:20170208T114325Z
LAST-MODIFIED:20170208T114325Z
UID:191-1523002223-1520899199@ecole-vhugo.com
SUMMARY:Our Curriculum
DESCRIPTION:The Ed School District is in compliance with the U.S. Civil Rights Act of 1964 and the Title IX Educational Amendments of 1972\, Part 86. The School District provides equal employment and educational opportunities to all individuals without regard to race\, color\, creed\, religion\, national origin\, political affiliation\, sex\, sexual orientation\, age\, marital status\, veteran status or disability.
URL:https://ecole-vhugo.com/event/our-curriculum/
CATEGORIES:School
ATTACH;FMTTYPE=image/jpeg:https://ecole-vhugo.com/wp-content/uploads/2017/02/event-01-1.jpg
END:VEVENT
END:VCALENDAR